BEGIN:VCALENDAR
VERSION:2.0
PRODID:icalendar-ruby
CALSCALE:GREGORIAN
METHOD:PUBLISH
BEGIN:VEVENT
DTSTAMP:20260421T110135Z
UID:6-1289340@presenceofjesus.com
DTSTART:20260426T210000Z
DTEND:20260427T003000Z
CLASS:PUBLIC
CREATED:20260420T212114
DESCRIPTION:
LAST-MODIFIED:20260420T212114
LOCATION:
SUMMARY:Sunday Service
URL;VALUE=URI:https://www.presenceofjesus.com/events/sunday-service/2026-04
 -26
END:VEVENT
END:VCALENDAR
