BEGIN:VCALENDAR
VERSION:2.0
PRODID:icalendar-ruby
CALSCALE:GREGORIAN
METHOD:PUBLISH
BEGIN:VEVENT
DTSTAMP:20260421T124211Z
UID:6-1289400@presenceofjesus.com
DTSTART:20260503T210000Z
DTEND:20260504T003000Z
CLASS:PUBLIC
CREATED:20260421T082849
DESCRIPTION:
LAST-MODIFIED:20260421T082849
LOCATION:
SUMMARY:Sunday Service
URL;VALUE=URI:https://www.presenceofjesus.com/events/sunday-service/2026-05
 -03
END:VEVENT
END:VCALENDAR
