BEGIN:VCALENDAR
VERSION:2.0
PRODID:icalendar-ruby
CALSCALE:GREGORIAN
METHOD:PUBLISH
BEGIN:VEVENT
DTSTAMP:20260421T164003Z
UID:6-1289461@presenceofjesus.com
DTSTART:20260517T210000Z
DTEND:20260518T003000Z
CLASS:PUBLIC
CREATED:20260421T110420
DESCRIPTION:
LAST-MODIFIED:20260421T110420
LOCATION:
SUMMARY:Sunday Service
URL;VALUE=URI:https://www.presenceofjesus.com/events/sunday-service/2026-05
 -17
END:VEVENT
END:VCALENDAR
