BEGIN:VCALENDAR
VERSION:2.0
PRODID:icalendar-ruby
CALSCALE:GREGORIAN
METHOD:PUBLISH
BEGIN:VEVENT
DTSTAMP:20260421T200723Z
UID:6-1289522@presenceofjesus.com
DTSTART:20260531T210000Z
DTEND:20260601T003000Z
CLASS:PUBLIC
CREATED:20260421T134433
DESCRIPTION:
LAST-MODIFIED:20260421T134433
LOCATION:
SUMMARY:Sunday Service
URL;VALUE=URI:https://www.presenceofjesus.com/events/sunday-service/2026-05
 -31
END:VEVENT
END:VCALENDAR
