BEGIN:VCALENDAR
VERSION:2.0
PRODID:icalendar-ruby
CALSCALE:GREGORIAN
METHOD:PUBLISH
BEGIN:VEVENT
DTSTAMP:20260421T221102Z
UID:6-1289582@presenceofjesus.com
DTSTART:20260607T210000Z
DTEND:20260608T003000Z
CLASS:PUBLIC
CREATED:20260421T162016
DESCRIPTION:
LAST-MODIFIED:20260421T162016
LOCATION:
SUMMARY:Sunday Service
URL;VALUE=URI:https://www.presenceofjesus.com/events/sunday-service/2026-06
 -07
END:VEVENT
END:VCALENDAR
