BEGIN:VCALENDAR
VERSION:2.0
PRODID:icalendar-ruby
CALSCALE:GREGORIAN
METHOD:PUBLISH
BEGIN:VEVENT
DTSTAMP:20260421T234831Z
UID:6-1289642@presenceofjesus.com
DTSTART:20260614T210000Z
DTEND:20260615T003000Z
CLASS:PUBLIC
CREATED:20260421T185857
DESCRIPTION:
LAST-MODIFIED:20260421T185857
LOCATION:
SUMMARY:Sunday Service
URL;VALUE=URI:https://www.presenceofjesus.com/events/sunday-service/2026-06
 -14
END:VEVENT
END:VCALENDAR
