BEGIN:VCALENDAR
VERSION:2.0
PRODID:icalendar-ruby
CALSCALE:GREGORIAN
METHOD:PUBLISH
BEGIN:VEVENT
DTSTAMP:20260422T094545Z
UID:6-1289706@presenceofjesus.com
DTSTART:20260719T210000Z
DTEND:20260720T003000Z
CLASS:PUBLIC
CREATED:20260421T213715
DESCRIPTION:
LAST-MODIFIED:20260421T213715
LOCATION:
SUMMARY:Sunday Service
URL;VALUE=URI:https://www.presenceofjesus.com/events/sunday-service/2026-07
 -19
END:VEVENT
END:VCALENDAR
