BEGIN:VCALENDAR
VERSION:2.0
PRODID:icalendar-ruby
CALSCALE:GREGORIAN
METHOD:PUBLISH
BEGIN:VEVENT
DTSTAMP:20260422T115245Z
UID:6-1289707@presenceofjesus.com
DTSTART:20260726T210000Z
DTEND:20260727T003000Z
CLASS:PUBLIC
CREATED:20260421T213715
DESCRIPTION:
LAST-MODIFIED:20260421T213715
LOCATION:
SUMMARY:Sunday Service
URL;VALUE=URI:https://www.presenceofjesus.com/events/sunday-service/2026-07
 -26
END:VEVENT
END:VCALENDAR
