BEGIN:VCALENDAR
VERSION:2.0
PRODID:icalendar-ruby
CALSCALE:GREGORIAN
METHOD:PUBLISH
BEGIN:VEVENT
DTSTAMP:20260422T134545Z
UID:6-1289767@presenceofjesus.com
DTSTART:20260802T210000Z
DTEND:20260803T003000Z
CLASS:PUBLIC
CREATED:20260422T084549
DESCRIPTION:
LAST-MODIFIED:20260422T084549
LOCATION:
SUMMARY:Sunday Service
URL;VALUE=URI:https://www.presenceofjesus.com/events/sunday-service/2026-08
 -02
END:VEVENT
END:VCALENDAR
