BEGIN:VCALENDAR
VERSION:2.0
PRODID:icalendar-ruby
CALSCALE:GREGORIAN
METHOD:PUBLISH
BEGIN:VEVENT
DTSTAMP:20260422T194136Z
UID:6-1289888@presenceofjesus.com
DTSTART:20260823T210000Z
DTEND:20260824T003000Z
CLASS:PUBLIC
CREATED:20260422T143537
DESCRIPTION:
LAST-MODIFIED:20260422T143537
LOCATION:
SUMMARY:Sunday Service
URL;VALUE=URI:https://www.presenceofjesus.com/events/sunday-service/2026-08
 -23
END:VEVENT
END:VCALENDAR
