BEGIN:VCALENDAR
VERSION:2.0
PRODID:icalendar-ruby
CALSCALE:GREGORIAN
METHOD:PUBLISH
BEGIN:VEVENT
DTSTAMP:20260424T101538Z
UID:6-1290421@presenceofjesus.com
DTSTART:20260906T210000Z
DTEND:20260907T003000Z
CLASS:PUBLIC
CREATED:20260423T231850
DESCRIPTION:
LAST-MODIFIED:20260423T231850
LOCATION:
SUMMARY:Sunday Service
URL;VALUE=URI:https://www.presenceofjesus.com/events/sunday-service/2026-09
 -06
END:VEVENT
END:VCALENDAR
