BEGIN:VCALENDAR
VERSION:2.0
PRODID:icalendar-ruby
CALSCALE:GREGORIAN
METHOD:PUBLISH
BEGIN:VEVENT
DTSTAMP:20260424T154847Z
UID:6-1290542@presenceofjesus.com
DTSTART:20260927T210000Z
DTEND:20260928T003000Z
CLASS:PUBLIC
CREATED:20260424T113932
DESCRIPTION:
LAST-MODIFIED:20260424T113932
LOCATION:
SUMMARY:Sunday Service
URL;VALUE=URI:https://www.presenceofjesus.com/events/sunday-service/2026-09
 -27
END:VEVENT
END:VCALENDAR
