BEGIN:VCALENDAR
VERSION:2.0
PRODID:icalendar-ruby
CALSCALE:GREGORIAN
METHOD:PUBLISH
BEGIN:VEVENT
DTSTAMP:20260424T192121Z
UID:6-1290603@presenceofjesus.com
DTSTART:20261011T210000Z
DTEND:20261012T003000Z
CLASS:PUBLIC
CREATED:20260424T142506
DESCRIPTION:
LAST-MODIFIED:20260424T142506
LOCATION:
SUMMARY:Sunday Service
URL;VALUE=URI:https://www.presenceofjesus.com/events/sunday-service/2026-10
 -11
END:VEVENT
END:VCALENDAR
