BEGIN:VCALENDAR
VERSION:2.0
PRODID:icalendar-ruby
CALSCALE:GREGORIAN
METHOD:PUBLISH
BEGIN:VEVENT
DTSTAMP:20260424T224918Z
UID:6-1290664@presenceofjesus.com
DTSTART:20261025T210000Z
DTEND:20261026T003000Z
CLASS:PUBLIC
CREATED:20260424T171257
DESCRIPTION:
LAST-MODIFIED:20260424T171257
LOCATION:
SUMMARY:Sunday Service
URL;VALUE=URI:https://www.presenceofjesus.com/events/sunday-service/2026-10
 -25
END:VEVENT
END:VCALENDAR
