BEGIN:VCALENDAR
VERSION:2.0
PRODID:icalendar-ruby
CALSCALE:GREGORIAN
METHOD:PUBLISH
BEGIN:VEVENT
DTSTAMP:20260425T005310Z
UID:6-1290724@presenceofjesus.com
DTSTART:20261101T220000Z
DTEND:20261102T013000Z
CLASS:PUBLIC
CREATED:20260424T200043
DESCRIPTION:
LAST-MODIFIED:20260424T200043
LOCATION:
SUMMARY:Sunday Service
URL;VALUE=URI:https://www.presenceofjesus.com/events/sunday-service/2026-11
 -01
END:VEVENT
END:VCALENDAR
